BEGIN:VCALENDAR
VERSION:2.0
PRODID:-//Pilzfreunde Altusried e.V. - ECPv6.15.20//NONSGML v1.0//EN
CALSCALE:GREGORIAN
METHOD:PUBLISH
X-WR-CALNAME:Pilzfreunde Altusried e.V.
X-ORIGINAL-URL:https://pilzfreunde-altusried.de
X-WR-CALDESC:Veranstaltungen für Pilzfreunde Altusried e.V.
REFRESH-INTERVAL;VALUE=DURATION:PT1H
X-Robots-Tag:noindex
X-PUBLISHED-TTL:PT1H
BEGIN:VTIMEZONE
TZID:Europe/Berlin
BEGIN:DAYLIGHT
TZOFFSETFROM:+0100
TZOFFSETTO:+0200
TZNAME:CEST
DTSTART:20250330T010000
END:DAYLIGHT
BEGIN:STANDARD
TZOFFSETFROM:+0200
TZOFFSETTO:+0100
TZNAME:CET
DTSTART:20251026T010000
END:STANDARD
BEGIN:DAYLIGHT
TZOFFSETFROM:+0100
TZOFFSETTO:+0200
TZNAME:CEST
DTSTART:20260329T010000
END:DAYLIGHT
BEGIN:STANDARD
TZOFFSETFROM:+0200
TZOFFSETTO:+0100
TZNAME:CET
DTSTART:20261025T010000
END:STANDARD
BEGIN:DAYLIGHT
TZOFFSETFROM:+0100
TZOFFSETTO:+0200
TZNAME:CEST
DTSTART:20270328T010000
END:DAYLIGHT
BEGIN:STANDARD
TZOFFSETFROM:+0200
TZOFFSETTO:+0100
TZNAME:CET
DTSTART:20271031T010000
END:STANDARD
END:VTIMEZONE
BEGIN:VEVENT
DTSTART;TZID=Europe/Berlin:20260517T143000
DTEND;TZID=Europe/Berlin:20260517T163000
DTSTAMP:20260421T121536
CREATED:20260411T143759Z
LAST-MODIFIED:20260411T143759Z
UID:1163-1779028200-1779035400@pilzfreunde-altusried.de
SUMMARY:PilzCoach Kids 17. Mai 2026
DESCRIPTION:Am Sonntag\, dem 17. Mai 2026\, gehen wir gemeinsam auf eine kleine Exkursion und entdecken die ersten Pilze. \n  \nUnseren Treffpunkt erfährst du über unsere WhatsApp-Gruppe. \nDu bist bisher nicht Teil unserer Gruppe und hast Interesse\, Teil der PilzCoach Kids zu werden? Dann melde dich direkt bei Natalja Plein\, Jugendleiterin\, Tel. 0160 5006142.
URL:https://pilzfreunde-altusried.de/termine/pilzcoach-kids-17-mai-2026/
END:VEVENT
END:VCALENDAR