BEGIN:VCALENDAR
VERSION:2.0
PRODID:-//Pilzfreunde Altusried e.V. - ECPv6.15.20//NONSGML v1.0//EN
CALSCALE:GREGORIAN
METHOD:PUBLISH
X-WR-CALNAME:Pilzfreunde Altusried e.V.
X-ORIGINAL-URL:https://pilzfreunde-altusried.de
X-WR-CALDESC:Veranstaltungen für Pilzfreunde Altusried e.V.
REFRESH-INTERVAL;VALUE=DURATION:PT1H
X-Robots-Tag:noindex
X-PUBLISHED-TTL:PT1H
BEGIN:VTIMEZONE
TZID:Europe/Berlin
BEGIN:DAYLIGHT
TZOFFSETFROM:+0100
TZOFFSETTO:+0200
TZNAME:CEST
DTSTART:20250330T010000
END:DAYLIGHT
BEGIN:STANDARD
TZOFFSETFROM:+0200
TZOFFSETTO:+0100
TZNAME:CET
DTSTART:20251026T010000
END:STANDARD
BEGIN:DAYLIGHT
TZOFFSETFROM:+0100
TZOFFSETTO:+0200
TZNAME:CEST
DTSTART:20260329T010000
END:DAYLIGHT
BEGIN:STANDARD
TZOFFSETFROM:+0200
TZOFFSETTO:+0100
TZNAME:CET
DTSTART:20261025T010000
END:STANDARD
BEGIN:DAYLIGHT
TZOFFSETFROM:+0100
TZOFFSETTO:+0200
TZNAME:CEST
DTSTART:20270328T010000
END:DAYLIGHT
BEGIN:STANDARD
TZOFFSETFROM:+0200
TZOFFSETTO:+0100
TZNAME:CET
DTSTART:20271031T010000
END:STANDARD
END:VTIMEZONE
BEGIN:VEVENT
DTSTART;TZID=Europe/Berlin:20260524T143000
DTEND;TZID=Europe/Berlin:20260524T163000
DTSTAMP:20260421T123156
CREATED:20260411T143934Z
LAST-MODIFIED:20260411T143934Z
UID:1165-1779633000-1779640200@pilzfreunde-altusried.de
SUMMARY:PilzCoach Kids 24. Mai 2026
DESCRIPTION:Am Sonntag\, dem 24. Mai 2026\, treffen wir uns am Kinderstand des Pilzvereins auf dem Dorffest Kimratshofen. \n  \nDu bist bisher nicht Teil unserer Gruppe und hast Interesse\, Teil der PilzCoach Kids zu werden? Dann melde dich direkt bei Natalja Plein\, Jugendleiterin\, Tel. 0160 5006142.
URL:https://pilzfreunde-altusried.de/termine/pilzcoach-kids-24-mai-2026/
LOCATION:Dorfhaus Kimratshofen\, Am Kirchberg 2\, Kimratshofen\, 87452\, Germany
END:VEVENT
END:VCALENDAR