BEGIN:VCALENDAR
VERSION:2.0
PRODID:-//Pilzfreunde Altusried e.V. - ECPv6.15.20//NONSGML v1.0//EN
CALSCALE:GREGORIAN
METHOD:PUBLISH
X-WR-CALNAME:Pilzfreunde Altusried e.V.
X-ORIGINAL-URL:https://pilzfreunde-altusried.de
X-WR-CALDESC:Veranstaltungen für Pilzfreunde Altusried e.V.
REFRESH-INTERVAL;VALUE=DURATION:PT1H
X-Robots-Tag:noindex
X-PUBLISHED-TTL:PT1H
BEGIN:VTIMEZONE
TZID:Europe/Berlin
BEGIN:DAYLIGHT
TZOFFSETFROM:+0100
TZOFFSETTO:+0200
TZNAME:CEST
DTSTART:20250330T010000
END:DAYLIGHT
BEGIN:STANDARD
TZOFFSETFROM:+0200
TZOFFSETTO:+0100
TZNAME:CET
DTSTART:20251026T010000
END:STANDARD
BEGIN:DAYLIGHT
TZOFFSETFROM:+0100
TZOFFSETTO:+0200
TZNAME:CEST
DTSTART:20260329T010000
END:DAYLIGHT
BEGIN:STANDARD
TZOFFSETFROM:+0200
TZOFFSETTO:+0100
TZNAME:CET
DTSTART:20261025T010000
END:STANDARD
BEGIN:DAYLIGHT
TZOFFSETFROM:+0100
TZOFFSETTO:+0200
TZNAME:CEST
DTSTART:20270328T010000
END:DAYLIGHT
BEGIN:STANDARD
TZOFFSETFROM:+0200
TZOFFSETTO:+0100
TZNAME:CET
DTSTART:20271031T010000
END:STANDARD
END:VTIMEZONE
BEGIN:VEVENT
DTSTART;VALUE=DATE:20261003
DTEND;VALUE=DATE:20261004
DTSTAMP:20260421T123104
CREATED:20260411T144917Z
LAST-MODIFIED:20260411T144917Z
UID:1171-1790985600-1791071999@pilzfreunde-altusried.de
SUMMARY:PilzCoach Kids 3. Oktober 2026
DESCRIPTION:Besuche uns im Oktober auf einem der Märkte. Staune über die Vielfalt der Pilzausstellung und lass dich überraschen!\nDu findest uns entweder am 3. Oktober 2026 auf dem Alternativmarkt oder am 10. Oktober auf dem Schmalzmarkt in Isny. \nDu bist bisher nicht Teil unserer Gruppe und hast Interesse\, Teil der PilzCoach Kids zu werden? Dann melde dich direkt bei Natalja Plein\, Jugendleiterin\, Tel. 0160 5006142.
URL:https://pilzfreunde-altusried.de/termine/pilzcoach-kids-3-oktober-2026/
LOCATION:Altusried\, Altusried\, 87452\, Germany
END:VEVENT
END:VCALENDAR