BEGIN:VCALENDAR
VERSION:2.0
PRODID:-//Pilzfreunde Altusried e.V. - ECPv6.15.20//NONSGML v1.0//EN
CALSCALE:GREGORIAN
METHOD:PUBLISH
X-WR-CALNAME:Pilzfreunde Altusried e.V.
X-ORIGINAL-URL:https://pilzfreunde-altusried.de
X-WR-CALDESC:Veranstaltungen für Pilzfreunde Altusried e.V.
REFRESH-INTERVAL;VALUE=DURATION:PT1H
X-Robots-Tag:noindex
X-PUBLISHED-TTL:PT1H
BEGIN:VTIMEZONE
TZID:Europe/Berlin
BEGIN:DAYLIGHT
TZOFFSETFROM:+0100
TZOFFSETTO:+0200
TZNAME:CEST
DTSTART:20250330T010000
END:DAYLIGHT
BEGIN:STANDARD
TZOFFSETFROM:+0200
TZOFFSETTO:+0100
TZNAME:CET
DTSTART:20251026T010000
END:STANDARD
BEGIN:DAYLIGHT
TZOFFSETFROM:+0100
TZOFFSETTO:+0200
TZNAME:CEST
DTSTART:20260329T010000
END:DAYLIGHT
BEGIN:STANDARD
TZOFFSETFROM:+0200
TZOFFSETTO:+0100
TZNAME:CET
DTSTART:20261025T010000
END:STANDARD
BEGIN:DAYLIGHT
TZOFFSETFROM:+0100
TZOFFSETTO:+0200
TZNAME:CEST
DTSTART:20270328T010000
END:DAYLIGHT
BEGIN:STANDARD
TZOFFSETFROM:+0200
TZOFFSETTO:+0100
TZNAME:CET
DTSTART:20271031T010000
END:STANDARD
END:VTIMEZONE
BEGIN:VEVENT
DTSTART;TZID=Europe/Berlin:20260726T090000
DTEND;TZID=Europe/Berlin:20260726T120000
DTSTAMP:20260421T104336
CREATED:20260204T152500Z
LAST-MODIFIED:20260209T105910Z
UID:1068-1785056400-1785067200@pilzfreunde-altusried.de
SUMMARY:Pilzlehrwanderung für Gäste und Mitglieder 26.07.2026
DESCRIPTION:Pilzlehrwanderungen für Gäste und Mitglieder unter Leitung unserer Pilzsachverständigen und Pilzcoaches  \n  \nAuch im Jahr 2026 finden wieder geführte Pilzlehrwanderungen statt. \n\nSonntag\, 28. Juni 2026\, unter Leitung von Steffi Zeltner und Hans Peikert\n\n\nSonntag\, 26. Juli 2026\, unter Leitung von Natalja Plein und Michael Springer\n\n\nSamstag\, 26. September 2026\, unter Leitung von Reiner Konefka und Michael Springer\n\n  \nDie entsprechenden Biotope\, genaue Treffpunkte und Uhrzeiten werden rechtzeitig bekannt gegeben. \n  \nTeilnahmegebühr für Gäste: 30 € pro Person bzw. 40 € pro Familie.\nDie Teilnehmerzahl ist begrenzt!\nAnmeldungen per Mail an buero@pilzfreunde-altusried.de
URL:https://pilzfreunde-altusried.de/termine/pilzlehrwanderung-fuer-gaeste-und-mitglieder-26-07-2026/
END:VEVENT
END:VCALENDAR